BEGIN:VCALENDAR
VERSION:2.0
PRODID:-//hacksw/handcal//NONSGML v1.0//EN
BEGIN:VEVENT
SUMMARY:PEN BE
UID:af65ea7d-8f4e-47d0-b77a-4a7edf2c9454
DTSTART:20260506T113000Z
DTEND:20260506T163000Z
LOCATION:Localisation   
CATEGORIES:Sportif
STATUS:
DESCRIPTION:<p>RV P Decathlon Immaculee pour un depart a
 13h30</p>
 
 <p>Encadrant : Jean Pierre
 VOLPI</p>
 
 <p> </p>
 
 <p><strong><a
 href="http://www.ameli.fr/assure/sante/themes/gestes-barrieres/les-gestes-barrieres-adopter"
 target="_blank" rel="noreferrer noopener"><u>Respect des gestes
 barrieres</u></a></strong></p>
 
 <p><strong><u><a
 href="https://randoloisir44sn.sportsregions.fr/en-savoir-plus/sante-securite-70714"
 target="_blank" rel="noreferrer noopener">Securisation et conduite
 des randonnees</a></u></strong></p>
 
 <p> </p>
URL;VALUE=URI:https://randoloisir44sn.sportsregions.fr/evenements/2026/05/06/pen-be-2440498
END:VEVENT
END:VCALENDAR
