BEGIN:VCALENDAR
VERSION:2.0
PRODID:-//hacksw/handcal//NONSGML v1.0//EN
BEGIN:VEVENT
SUMMARY:SEJOUR Village de vacances KERAVEL a ERDEVEN (56)
UID:ee71d0dd-02ac-4012-b87e-b16dcd29801b
DTSTART:20260502T220000Z
DTEND:20260507T220000Z
LOCATION:Localisation   
CATEGORIES:Sportif
STATUS:
DESCRIPTION:<p>Organisatrice Francoise HAMONOU</p>
 
 <p><em>Village
 vacances <a href="https://www.keravelvacances.com/fr"
 target="_blank" rel="noreferrer
 noopener"><u> Keravel</u></a> Erdeven(56)</em></p>
 
 <p><em>attribution
 des chambres le dimanche 3 mai  a partir de
 17h</em></p>
 
 <p> </p>
 
 <p> </p>
 
 <p> </p>
 
 <p><strong><a
 href="http://www.ameli.fr/assure/sante/themes/gestes-barrieres/les-gestes-barrieres-adopter"
 target="_blank" rel="noreferrer noopener"><u>Respect des gestes
 barrieres</u></a></strong></p>
 
 <p><strong><u><a
 href="https://randoloisir44sn.sportsregions.fr/en-savoir-plus/sante-securite-70714"
 target="_blank" rel="noreferrer noopener">Securisation et conduite
 des randonnees</a></u></strong></p>
 
 <p> </p>
URL;VALUE=URI:https://randoloisir44sn.sportsregions.fr/evenements/2026/05/03/sejour-village-de-vacances-keravel-a-erdeven-56-2440497
END:VEVENT
END:VCALENDAR
