BEGIN:VCALENDAR
VERSION:2.0
PRODID:-//hacksw/handcal//NONSGML v1.0//EN
BEGIN:VEVENT
SUMMARY:PORCE Parc Paysager
UID:ab37817b-adc9-4e79-8fa9-0d331a3ef3f4
DTSTART:20260422T113000Z
DTEND:20260422T163000Z
LOCATION:Localisation   
CATEGORIES:Sportif
STATUS:
DESCRIPTION:<p>RV P Gymnase de Porce pour un depart a
 13h30</p>
 
 <p>Encadrant : Marcel PASSE</p>
 
 <p> </p>
 
 <p><strong><a
 href="http://www.ameli.fr/assure/sante/themes/gestes-barrieres/les-gestes-barrieres-adopter"
 target="_blank" rel="noreferrer noopener"><u>Respect des gestes
 barrieres</u></a></strong></p>
 
 <p><strong><u><a
 href="https://randoloisir44sn.sportsregions.fr/en-savoir-plus/sante-securite-70714"
 target="_blank" rel="noreferrer noopener">Securisation et conduite
 des randonnees</a></u></strong></p>
URL;VALUE=URI:https://randoloisir44sn.sportsregions.fr/evenements/2026/04/22/porce-parc-paysager-2439554
END:VEVENT
END:VCALENDAR
