BEGIN:VCALENDAR
VERSION:2.0
PRODID:-//hacksw/handcal//NONSGML v1.0//EN
BEGIN:VEVENT
SUMMARY:DİSSİGNAC
UID:99d08543-7a41-4d53-85c6-943041186d3a
DTSTART:20260414T220000Z
DTEND:20260415T220000Z
LOCATION:Localisation   
CATEGORIES:Sportif
STATUS:
DESCRIPTION:<p>RV P Decathlon Immaculee pour un depart a
 13h30</p>
 
 <p>Encadrant : Jacques
 HUBERTY</p>
 
 <p> </p>
 
 <p> </p>
 
 <p><strong><a
 href="http://www.ameli.fr/assure/sante/themes/gestes-barrieres/les-gestes-barrieres-adopter"
 target="_blank" rel="noreferrer noopener"><u>Respect des gestes
 barrieres</u></a></strong></p>
 
 <p><strong><u><a
 href="https://randoloisir44sn.sportsregions.fr/en-savoir-plus/sante-securite-70714"
 target="_blank" rel="noreferrer noopener">Securisation et conduite
 des randonnees</a></u></strong></p>
URL;VALUE=URI:https://randoloisir44sn.sportsregions.fr/evenements/2026/04/15/dissignac-2437555
END:VEVENT
END:VCALENDAR
