BEGIN:VCALENDAR
VERSION:2.0
PRODID:-//hacksw/handcal//NONSGML v1.0//EN
BEGIN:VEVENT
SUMMARY:NANTES fleurie et carnaval (journee)
UID:1811d981-f248-4d78-a69d-13cc77e03f0d
DTSTART:20260411T220000Z
DTEND:20260412T220000Z
LOCATION:Localisation   
CATEGORIES:Sportif
STATUS:
DESCRIPTION:<p>RV P Decathlon pour un depart a 9h</p>
 
 <p>ou <a
 href="https://maps.app.goo.gl/S5JrdPcV1CJJwARy8" target="_blank"
 rel="noreferrer noopener">9h45 59 boulervard du val de Chezine
 Saint-Herblain </a>(prevenir encadrant)</p>
 
 <p>Encadrants : Patrick
 MERRIEN Jacques HUBERTY</p>
 
 <p> </p>
 
 <p><strong><a
 href="http://www.ameli.fr/assure/sante/themes/gestes-barrieres/les-gestes-barrieres-adopter"
 target="_blank" rel="noreferrer noopener"><u>Respect des gestes
 barrieres</u></a></strong></p>
 
 <p><strong><u><a
 href="https://randoloisir44sn.sportsregions.fr/en-savoir-plus/sante-securite-70714"
 target="_blank" rel="noreferrer noopener">Securisation et conduite
 des randonnees</a></u></strong></p>
 
 <p> </p>
URL;VALUE=URI:https://randoloisir44sn.sportsregions.fr/evenements/2026/04/12/nantes-fleurie-et-carnaval-journee-2435621
END:VEVENT
END:VCALENDAR
