BEGIN:VCALENDAR
VERSION:2.0
PRODID:-//hacksw/handcal//NONSGML v1.0//EN
BEGIN:VEVENT
SUMMARY:RANDO CREPES
UID:19c93e81-1066-4b35-9ad7-3a4d3e26c22a
DTSTART:20260408T120000Z
DTEND:20260408T163000Z
LOCATION:Localisation   
CATEGORIES:Sportif
STATUS:
DESCRIPTION:<p>RV P espace associatif SOUCOUPE SAINT-NAZAIRE pour un
 depart a 14h</p>
 
 <p>Encadrant(e)s : Michelle et Jean Pierre
 VOLPI</p>
 
 <p> </p>
 
 <p> </p>
 
 <p><strong><a
 href="http://www.ameli.fr/assure/sante/themes/gestes-barrieres/les-gestes-barrieres-adopter"
 target="_blank" rel="noreferrer noopener"><u>Respect des gestes
 barrieres</u></a></strong></p>
 
 <p><strong><u><a
 href="https://randoloisir44sn.sportsregions.fr/en-savoir-plus/sante-securite-70714"
 target="_blank" rel="noreferrer noopener">Securisation et conduite
 des randonnees</a></u></strong></p>
URL;VALUE=URI:https://randoloisir44sn.sportsregions.fr/evenements/2026/04/08/rando-crepes-2435620
END:VEVENT
END:VCALENDAR
